BEGIN:VCALENDAR
VERSION:2.0
PRODID:-//Auburn, Nebraska Community Calendar - ECPv6.6.4.2//NONSGML v1.0//EN
CALSCALE:GREGORIAN
METHOD:PUBLISH
X-WR-CALNAME:Auburn, Nebraska Community Calendar
X-ORIGINAL-URL:https://auburn.events
X-WR-CALDESC:Events for Auburn, Nebraska Community Calendar
REFRESH-INTERVAL;VALUE=DURATION:PT1H
X-Robots-Tag:noindex
X-PUBLISHED-TTL:PT1H
BEGIN:VTIMEZONE
TZID:America/Chicago
BEGIN:DAYLIGHT
TZOFFSETFROM:-0600
TZOFFSETTO:-0500
TZNAME:CDT
DTSTART:20250309T080000
END:DAYLIGHT
BEGIN:STANDARD
TZOFFSETFROM:-0500
TZOFFSETTO:-0600
TZNAME:CST
DTSTART:20251102T070000
END:STANDARD
END:VTIMEZONE
BEGIN:VEVENT
DTSTART;TZID=America/Chicago:20251107T120000
DTEND;TZID=America/Chicago:20251107T130000
DTSTAMP:20260422T061729
CREATED:20251008T005422Z
LAST-MODIFIED:20251009T005544Z
UID:109157-1762516800-1762520400@auburn.events
SUMMARY:Feeding 44 Distibution
DESCRIPTION:Mobile Food Pantry for Nemaha County.  Distribution is at Noon.
URL:https://auburn.events/event/feeding-44-distibution-107/
LOCATION:Al Wheeler Activity Center – Peru
END:VEVENT
BEGIN:VEVENT
DTSTART;TZID=America/Chicago:20251103T150000
DTEND;TZID=America/Chicago:20251103T160000
DTSTAMP:20260422T061729
CREATED:20251004T005407Z
LAST-MODIFIED:20251009T005544Z
UID:108973-1762182000-1762185600@auburn.events
SUMMARY:NE Chambers Association Bi-Weekly Meeting - Guest Speaker...TeamMates
DESCRIPTION:Tara Lea is inviting you to a scheduled Zoom meeting.\nJoin Zoom Meeting\nhttps://us06web.zoom.us/j/88132210784?pwd=34gyh2cpKljZJe602ekkjTih7E0zS7.1\nMeeting ID: 881 3221 0784\nPasscode: 742255\n—\nOne tap mobile\n+16699006833\,\,88132210784# US (San Jose) 17193594580\,\,88132210784# US\n—\nDial by your location\n• +1 669 900 6833 US (San Jose)\n• +1 719 359 4580 US\n• +1 253 205 0468 US\n• +1 253 215 8782 US (Tacoma)\n• +1 346 248 7799 US (Houston)\n• +1 669 444 9171 US\n• +1 689 278 1000 US\n• +1 929 205 6099 US (New York)\n• +1 301 715 8592 US (Washington DC)\n• +1 305 224 1968 US\n• +1 309 205 3325 US\n• +1 312 626 6799 US (Chicago)\n• +1 360 209 5623 US\n• +1 386 347 5053 US\n• +1 507 473 4847 US\n• +1 564 217 2000 US\n• +1 646 931 3860 US\nMeeting ID: 881 3221 0784\nFind your local number: https://us06web.zoom.us/u/kcxdL802RK
URL:https://auburn.events/event/ne-chambers-association-bi-weekly-meeting-guest-speaker-teammates/
LOCATION:https://us06web.zoom.us/j/88132210784?pwd=34gyh2cpKljZJe602ekkjTih7E0zS7.1
ORGANIZER;CN="tlea@nechamber.com":MAILTO:tlea@nechamber.com
END:VEVENT
BEGIN:VEVENT
DTSTART;TZID=America/Chicago:20251020T150000
DTEND;TZID=America/Chicago:20251020T160000
DTSTAMP:20260422T061729
CREATED:20250920T004122Z
LAST-MODIFIED:20251009T005544Z
UID:108337-1760972400-1760976000@auburn.events
SUMMARY:NE Chambers Association Bi-Weekly Meeting
DESCRIPTION:Tara Lea is inviting you to a scheduled Zoom meeting.\nJoin Zoom Meeting\nhttps://us06web.zoom.us/j/88132210784?pwd=34gyh2cpKljZJe602ekkjTih7E0zS7.1\nMeeting ID: 881 3221 0784\nPasscode: 742255\n—\nOne tap mobile\n+16699006833\,\,88132210784# US (San Jose) 17193594580\,\,88132210784# US\n—\nDial by your location\n• +1 669 900 6833 US (San Jose)\n• +1 719 359 4580 US\n• +1 253 205 0468 US\n• +1 253 215 8782 US (Tacoma)\n• +1 346 248 7799 US (Houston)\n• +1 669 444 9171 US\n• +1 689 278 1000 US\n• +1 929 205 6099 US (New York)\n• +1 301 715 8592 US (Washington DC)\n• +1 305 224 1968 US\n• +1 309 205 3325 US\n• +1 312 626 6799 US (Chicago)\n• +1 360 209 5623 US\n• +1 386 347 5053 US\n• +1 507 473 4847 US\n• +1 564 217 2000 US\n• +1 646 931 3860 US\nMeeting ID: 881 3221 0784\nFind your local number: https://us06web.zoom.us/u/kcxdL802RK
URL:https://auburn.events/event/ne-chambers-association-bi-weekly-meeting-20/
LOCATION:https://us06web.zoom.us/j/88132210784?pwd=34gyh2cpKljZJe602ekkjTih7E0zS7.1
ORGANIZER;CN="tlea@nechamber.com":MAILTO:tlea@nechamber.com
END:VEVENT
BEGIN:VEVENT
DTSTART;TZID=America/Chicago:20251016T190000
DTEND;TZID=America/Chicago:20251016T200000
DTSTAMP:20260422T061729
CREATED:20250917T003850Z
LAST-MODIFIED:20251009T005544Z
UID:108198-1760641200-1760644800@auburn.events
SUMMARY:Optimists Meeting
DESCRIPTION:
URL:https://auburn.events/event/optimists-meeting-363/
LOCATION:Arbor Manor Motel\, 1617 Central Ave\, Auburn\, NE\, United States
END:VEVENT
BEGIN:VEVENT
DTSTART;TZID=America/Chicago:20251016T080000
DTEND;TZID=America/Chicago:20251016T090000
DTSTAMP:20260422T061729
CREATED:20250916T002347Z
LAST-MODIFIED:20251009T005544Z
UID:108149-1760601600-1760605200@auburn.events
SUMMARY:Members' Mix & Mugs - Auburn Chamber Networking and Workshop Event
DESCRIPTION:
URL:https://auburn.events/event/members-mix-mugs-auburn-chamber-networking-and-workshop-event-29/
END:VEVENT
BEGIN:VEVENT
DTSTART;TZID=America/Chicago:20251015T113000
DTEND;TZID=America/Chicago:20251015T123000
DTSTAMP:20260422T061729
CREATED:20250915T000939Z
LAST-MODIFIED:20251009T005544Z
UID:108099-1760527800-1760531400@auburn.events
SUMMARY:BPW Meeting
DESCRIPTION:
URL:https://auburn.events/event/bpw-meeting-154/
LOCATION:Auburn City Hall
END:VEVENT
BEGIN:VEVENT
DTSTART;TZID=America/Chicago:20251013T190000
DTEND;TZID=America/Chicago:20251013T200000
DTSTAMP:20260422T061729
CREATED:20250914T000945Z
LAST-MODIFIED:20251009T005543Z
UID:108050-1760382000-1760385600@auburn.events
SUMMARY:City Council Meeting
DESCRIPTION:
URL:https://auburn.events/event/city-council-meeting-104/
LOCATION:Auburn City Hall 1101 J Street
END:VEVENT
BEGIN:VEVENT
DTSTART;TZID=America/Chicago:20251013T173000
DTEND;TZID=America/Chicago:20251013T183000
DTSTAMP:20260422T061729
CREATED:20250913T000959Z
LAST-MODIFIED:20251009T005543Z
UID:108002-1760376600-1760380200@auburn.events
SUMMARY:School Board Meeting
DESCRIPTION:
URL:https://auburn.events/event/school-board-meeting-104/
END:VEVENT
BEGIN:VEVENT
DTSTART;TZID=America/Chicago:20251006T150000
DTEND;TZID=America/Chicago:20251006T160000
DTSTAMP:20260422T061729
CREATED:20250906T232420Z
LAST-MODIFIED:20251005T005334Z
UID:107722-1759762800-1759766400@auburn.events
SUMMARY:NE Chambers Association Bi-Weekly Meeting
DESCRIPTION:Tara Lea is inviting you to a scheduled Zoom meeting.\nJoin Zoom Meeting\nhttps://us06web.zoom.us/j/88132210784?pwd=34gyh2cpKljZJe602ekkjTih7E0zS7.1\nMeeting ID: 881 3221 0784\nPasscode: 742255\n—\nOne tap mobile\n+16699006833\,\,88132210784# US (San Jose) 17193594580\,\,88132210784# US\n—\nDial by your location\n• +1 669 900 6833 US (San Jose)\n• +1 719 359 4580 US\n• +1 253 205 0468 US\n• +1 253 215 8782 US (Tacoma)\n• +1 346 248 7799 US (Houston)\n• +1 669 444 9171 US\n• +1 689 278 1000 US\n• +1 929 205 6099 US (New York)\n• +1 301 715 8592 US (Washington DC)\n• +1 305 224 1968 US\n• +1 309 205 3325 US\n• +1 312 626 6799 US (Chicago)\n• +1 360 209 5623 US\n• +1 386 347 5053 US\n• +1 507 473 4847 US\n• +1 564 217 2000 US\n• +1 646 931 3860 US\nMeeting ID: 881 3221 0784\nFind your local number: https://us06web.zoom.us/u/kcxdL802RK
URL:https://auburn.events/event/ne-chambers-association-bi-weekly-meeting-19/
LOCATION:https://us06web.zoom.us/j/88132210784?pwd=34gyh2cpKljZJe602ekkjTih7E0zS7.1
ORGANIZER;CN="tlea@nechamber.com":MAILTO:tlea@nechamber.com
END:VEVENT
BEGIN:VEVENT
DTSTART;TZID=America/Chicago:20251003T120000
DTEND;TZID=America/Chicago:20251003T130000
DTSTAMP:20260422T061729
CREATED:20250903T231049Z
LAST-MODIFIED:20251003T005343Z
UID:107584-1759492800-1759496400@auburn.events
SUMMARY:Feeding 44 Distibution
DESCRIPTION:Mobile Food Pantry for Nemaha County.  Distribution is at Noon.
URL:https://auburn.events/event/feeding-44-distibution-106/
LOCATION:Al Wheeler Activity Center – Peru
END:VEVENT
BEGIN:VEVENT
DTSTART;VALUE=DATE:20251003
DTEND;VALUE=DATE:20251004
DTSTAMP:20260422T061729
CREATED:20250903T231049Z
LAST-MODIFIED:20251003T005343Z
UID:107585-1759449600-1759535999@auburn.events
SUMMARY:NE Chambers Association Fall Conference
DESCRIPTION:Save the Date!  Registration link coming soon!
URL:https://auburn.events/event/ne-chambers-association-fall-conference-6/
LOCATION:Kearney\, NE
ORGANIZER;CN="tlea@nechamber.com":MAILTO:tlea@nechamber.com
END:VEVENT
BEGIN:VEVENT
DTSTART;VALUE=DATE:20251002
DTEND;VALUE=DATE:20251003
DTSTAMP:20260422T061729
CREATED:20250902T230936Z
LAST-MODIFIED:20251002T005354Z
UID:107539-1759363200-1759449599@auburn.events
SUMMARY:NE Chambers Association Fall Conference
DESCRIPTION:Save the Date!  Registration link coming soon!
URL:https://auburn.events/event/ne-chambers-association-fall-conference-5/
LOCATION:Kearney\, NE
ORGANIZER;CN="tlea@nechamber.com":MAILTO:tlea@nechamber.com
END:VEVENT
BEGIN:VEVENT
DTSTART;VALUE=DATE:20251001
DTEND;VALUE=DATE:20251002
DTSTAMP:20260422T061729
CREATED:20250901T230916Z
LAST-MODIFIED:20251001T005412Z
UID:107491-1759276800-1759363199@auburn.events
SUMMARY:NE Chambers Association Fall Conference
DESCRIPTION:Save the Date!  Registration link coming soon!
URL:https://auburn.events/event/ne-chambers-association-fall-conference-4/
LOCATION:Kearney\, NE
ORGANIZER;CN="tlea@nechamber.com":MAILTO:tlea@nechamber.com
END:VEVENT
BEGIN:VEVENT
DTSTART;TZID=America/Chicago:20250926T080000
DTEND;TZID=America/Chicago:20250926T090000
DTSTAMP:20260422T061729
CREATED:20250923T005418Z
LAST-MODIFIED:20250926T005336Z
UID:108476-1758873600-1758877200@auburn.events
SUMMARY:Ribbon Cutting - Honeybee Coffee
DESCRIPTION:Join with Google Meet: https://meet.google.com/omz-wege-rym\nLearn more about Meet at: https://support.google.com/a/users/answer/9282720
URL:https://auburn.events/event/ribbon-cutting-honeybee-coffee/
END:VEVENT
BEGIN:VEVENT
DTSTART;TZID=America/Chicago:20250924T090000
DTEND;TZID=America/Chicago:20250924T100000
DTSTAMP:20260422T061729
CREATED:20250910T234517Z
LAST-MODIFIED:20250924T005340Z
UID:107911-1758704400-1758708000@auburn.events
SUMMARY:NE Chambers Association Board of Directors Meeting
DESCRIPTION:Tara Lea is inviting you to a scheduled Zoom meeting.\nJoin Zoom Meeting\nhttps://us06web.zoom.us/j/84681278333?pwd=D34JwfkE7atbLFKUzNvpZf7GaNz0bS.1\nMeeting ID: 846 8127 8333\nPasscode: 017385\n—\nOne tap mobile\n+12532158782\,\,84681278333# US (Tacoma)\n+13462487799\,\,84681278333# US (Houston)
URL:https://auburn.events/event/ne-chambers-association-board-of-directors-meeting/
LOCATION:https://us06web.zoom.us/j/84681278333?pwd=D34JwfkE7atbLFKUzNvpZf7GaNz0bS.1
ORGANIZER;CN="tlea@nechamber.com":MAILTO:tlea@nechamber.com
END:VEVENT
BEGIN:VEVENT
DTSTART;TZID=America/Chicago:20250922T150000
DTEND;TZID=America/Chicago:20250922T160000
DTSTAMP:20260422T061729
CREATED:20250823T230841Z
LAST-MODIFIED:20250922T005344Z
UID:107079-1758553200-1758556800@auburn.events
SUMMARY:NE Chambers Association Bi-Weekly Meeting
DESCRIPTION:Tara Lea is inviting you to a scheduled Zoom meeting.\nJoin Zoom Meeting\nhttps://us06web.zoom.us/j/88132210784?pwd=34gyh2cpKljZJe602ekkjTih7E0zS7.1\nMeeting ID: 881 3221 0784\nPasscode: 742255\n—\nOne tap mobile\n+16699006833\,\,88132210784# US (San Jose) 17193594580\,\,88132210784# US\n—\nDial by your location\n• +1 669 900 6833 US (San Jose)\n• +1 719 359 4580 US\n• +1 253 205 0468 US\n• +1 253 215 8782 US (Tacoma)\n• +1 346 248 7799 US (Houston)\n• +1 669 444 9171 US\n• +1 689 278 1000 US\n• +1 929 205 6099 US (New York)\n• +1 301 715 8592 US (Washington DC)\n• +1 305 224 1968 US\n• +1 309 205 3325 US\n• +1 312 626 6799 US (Chicago)\n• +1 360 209 5623 US\n• +1 386 347 5053 US\n• +1 507 473 4847 US\n• +1 564 217 2000 US\n• +1 646 931 3860 US\nMeeting ID: 881 3221 0784\nFind your local number: https://us06web.zoom.us/u/kcxdL802RK
URL:https://auburn.events/event/ne-chambers-association-bi-weekly-meeting-18/
LOCATION:https://us06web.zoom.us/j/88132210784?pwd=34gyh2cpKljZJe602ekkjTih7E0zS7.1
ORGANIZER;CN="tlea@nechamber.com":MAILTO:tlea@nechamber.com
END:VEVENT
BEGIN:VEVENT
DTSTART;TZID=America/Chicago:20250918T190000
DTEND;TZID=America/Chicago:20250918T200000
DTSTAMP:20260422T061729
CREATED:20250820T225444Z
LAST-MODIFIED:20250919T003908Z
UID:106941-1758222000-1758225600@auburn.events
SUMMARY:Optimists Meeting
DESCRIPTION:
URL:https://auburn.events/event/optimists-meeting-362/
LOCATION:Arbor Manor Motel\, 1617 Central Ave\, Auburn\, NE\, United States
END:VEVENT
BEGIN:VEVENT
DTSTART;TZID=America/Chicago:20250918T080000
DTEND;TZID=America/Chicago:20250918T090000
DTSTAMP:20260422T061729
CREATED:20250819T225357Z
LAST-MODIFIED:20250918T003849Z
UID:106894-1758182400-1758186000@auburn.events
SUMMARY:Members' Mix & Mugs - Auburn Chamber Networking and Workshop Event
DESCRIPTION:
URL:https://auburn.events/event/members-mix-mugs-auburn-chamber-networking-and-workshop-event-28/
END:VEVENT
BEGIN:VEVENT
DTSTART;TZID=America/Chicago:20250917T113000
DTEND;TZID=America/Chicago:20250917T123000
DTSTAMP:20260422T061729
CREATED:20250818T225341Z
LAST-MODIFIED:20250917T003838Z
UID:106846-1758108600-1758112200@auburn.events
SUMMARY:BPW Meeting
DESCRIPTION:
URL:https://auburn.events/event/bpw-meeting-153/
LOCATION:Auburn City Hall
END:VEVENT
BEGIN:VEVENT
DTSTART;TZID=America/Chicago:20250916T160000
DTEND;TZID=America/Chicago:20250916T170000
DTSTAMP:20260422T061729
CREATED:20250916T002334Z
LAST-MODIFIED:20250916T002334Z
UID:108148-1758038400-1758042000@auburn.events
SUMMARY:Ribbon Cutting - Lanes End
DESCRIPTION:Join with Google Meet: https://meet.google.com/ege-ncuj-wii\nLearn more about Meet at: https://support.google.com/a/users/answer/9282720
URL:https://auburn.events/event/ribbon-cutting-lanes-end/
LOCATION:1818 Central Ave\, Auburn\, NE\, United States
END:VEVENT
BEGIN:VEVENT
DTSTART;TZID=America/Chicago:20250908T190000
DTEND;TZID=America/Chicago:20250908T200000
DTSTAMP:20260422T061729
CREATED:20250810T223900Z
LAST-MODIFIED:20250908T233901Z
UID:106476-1757358000-1757361600@auburn.events
SUMMARY:City Council Meeting
DESCRIPTION:
URL:https://auburn.events/event/city-council-meeting-103/
LOCATION:Auburn City Hall 1101 J Street
END:VEVENT
BEGIN:VEVENT
DTSTART;TZID=America/Chicago:20250908T173000
DTEND;TZID=America/Chicago:20250908T183000
DTSTAMP:20260422T061729
CREATED:20250810T223848Z
LAST-MODIFIED:20250907T232448Z
UID:106475-1757352600-1757356200@auburn.events
SUMMARY:School Board Meeting
DESCRIPTION:
URL:https://auburn.events/event/school-board-meeting-103/
END:VEVENT
BEGIN:VEVENT
DTSTART;TZID=America/Chicago:20250908T150000
DTEND;TZID=America/Chicago:20250908T160000
DTSTAMP:20260422T061729
CREATED:20250810T223848Z
LAST-MODIFIED:20250907T232448Z
UID:106474-1757343600-1757347200@auburn.events
SUMMARY:NE Chambers Association Bi-Weekly Meeting
DESCRIPTION:Tara Lea is inviting you to a scheduled Zoom meeting.\nJoin Zoom Meeting\nhttps://us06web.zoom.us/j/88132210784?pwd=34gyh2cpKljZJe602ekkjTih7E0zS7.1\nMeeting ID: 881 3221 0784\nPasscode: 742255\n—\nOne tap mobile\n+16699006833\,\,88132210784# US (San Jose) 17193594580\,\,88132210784# US\n—\nDial by your location\n• +1 669 900 6833 US (San Jose)\n• +1 719 359 4580 US\n• +1 253 205 0468 US\n• +1 253 215 8782 US (Tacoma)\n• +1 346 248 7799 US (Houston)\n• +1 669 444 9171 US\n• +1 689 278 1000 US\n• +1 929 205 6099 US (New York)\n• +1 301 715 8592 US (Washington DC)\n• +1 305 224 1968 US\n• +1 309 205 3325 US\n• +1 312 626 6799 US (Chicago)\n• +1 360 209 5623 US\n• +1 386 347 5053 US\n• +1 507 473 4847 US\n• +1 564 217 2000 US\n• +1 646 931 3860 US\nMeeting ID: 881 3221 0784\nFind your local number: https://us06web.zoom.us/u/kcxdL802RK
URL:https://auburn.events/event/ne-chambers-association-bi-weekly-meeting-17/
LOCATION:https://us06web.zoom.us/j/88132210784?pwd=34gyh2cpKljZJe602ekkjTih7E0zS7.1
ORGANIZER;CN="tlea@nechamber.com":MAILTO:tlea@nechamber.com
END:VEVENT
BEGIN:VEVENT
DTSTART;TZID=America/Chicago:20250905T120000
DTEND;TZID=America/Chicago:20250905T130000
DTSTAMP:20260422T061729
CREATED:20250806T223906Z
LAST-MODIFIED:20250904T230946Z
UID:106294-1757073600-1757077200@auburn.events
SUMMARY:Feeding 44 Distibution
DESCRIPTION:Mobile Food Pantry for Nemaha County.  Distribution is at Noon.
URL:https://auburn.events/event/feeding-44-distibution-105/
LOCATION:Al Wheeler Activity Center – Peru
END:VEVENT
BEGIN:VEVENT
DTSTART;TZID=America/Chicago:20250902T130000
DTEND;TZID=America/Chicago:20250902T140000
DTSTAMP:20260422T061729
CREATED:20250818T225340Z
LAST-MODIFIED:20250901T230915Z
UID:106845-1756818000-1756821600@auburn.events
SUMMARY:Auburn Road Show
DESCRIPTION:
URL:https://auburn.events/event/auburn-road-show/
LOCATION:City Hall\, City Council Chambers
ORGANIZER;CN="cdark@nechamber.com":MAILTO:cdark@nechamber.com
END:VEVENT
BEGIN:VEVENT
DTSTART;TZID=America/Chicago:20250825T150000
DTEND;TZID=America/Chicago:20250825T160000
DTSTAMP:20260422T061729
CREATED:20250726T215534Z
LAST-MODIFIED:20250824T230853Z
UID:105786-1756134000-1756137600@auburn.events
SUMMARY:NE Chambers Association Bi-Weekly Meeting
DESCRIPTION:Tara Lea is inviting you to a scheduled Zoom meeting.\nJoin Zoom Meeting\nhttps://us06web.zoom.us/j/88132210784?pwd=34gyh2cpKljZJe602ekkjTih7E0zS7.1\nMeeting ID: 881 3221 0784\nPasscode: 742255\n—\nOne tap mobile\n+16699006833\,\,88132210784# US (San Jose) 17193594580\,\,88132210784# US\n—\nDial by your location\n• +1 669 900 6833 US (San Jose)\n• +1 719 359 4580 US\n• +1 253 205 0468 US\n• +1 253 215 8782 US (Tacoma)\n• +1 346 248 7799 US (Houston)\n• +1 669 444 9171 US\n• +1 689 278 1000 US\n• +1 929 205 6099 US (New York)\n• +1 301 715 8592 US (Washington DC)\n• +1 305 224 1968 US\n• +1 309 205 3325 US\n• +1 312 626 6799 US (Chicago)\n• +1 360 209 5623 US\n• +1 386 347 5053 US\n• +1 507 473 4847 US\n• +1 564 217 2000 US\n• +1 646 931 3860 US\nMeeting ID: 881 3221 0784\nFind your local number: https://us06web.zoom.us/u/kcxdL802RK
URL:https://auburn.events/event/ne-chambers-association-bi-weekly-meeting-16/
LOCATION:https://us06web.zoom.us/j/88132210784?pwd=34gyh2cpKljZJe602ekkjTih7E0zS7.1
ORGANIZER;CN="tlea@nechamber.com":MAILTO:tlea@nechamber.com
END:VEVENT
BEGIN:VEVENT
DTSTART;TZID=America/Chicago:20250821T190000
DTEND;TZID=America/Chicago:20250821T200000
DTSTAMP:20260422T061729
CREATED:20250723T213840Z
LAST-MODIFIED:20250821T225557Z
UID:105645-1755802800-1755806400@auburn.events
SUMMARY:Optimists Meeting
DESCRIPTION:
URL:https://auburn.events/event/optimists-meeting-361/
LOCATION:Arbor Manor Motel\, 1617 Central Ave\, Auburn\, NE\, United States
END:VEVENT
BEGIN:VEVENT
DTSTART;TZID=America/Chicago:20250821T080000
DTEND;TZID=America/Chicago:20250821T090000
DTSTAMP:20260422T061729
CREATED:20250722T212553Z
LAST-MODIFIED:20250820T225432Z
UID:105598-1755763200-1755766800@auburn.events
SUMMARY:Members' Mix & Mugs - Auburn Chamber Networking and Workshop Event
DESCRIPTION:
URL:https://auburn.events/event/members-mix-mugs-auburn-chamber-networking-and-workshop-event-27/
END:VEVENT
BEGIN:VEVENT
DTSTART;TZID=America/Chicago:20250820T113000
DTEND;TZID=America/Chicago:20250820T123000
DTSTAMP:20260422T061729
CREATED:20250721T210941Z
LAST-MODIFIED:20250819T225344Z
UID:105551-1755689400-1755693000@auburn.events
SUMMARY:BPW Meeting
DESCRIPTION:
URL:https://auburn.events/event/bpw-meeting-152/
LOCATION:Auburn City Hall
END:VEVENT
BEGIN:VEVENT
DTSTART;TZID=America/Chicago:20250815T123000
DTEND;TZID=America/Chicago:20250815T143000
DTSTAMP:20260422T061729
CREATED:20250719T050954Z
LAST-MODIFIED:20250719T050954Z
UID:105430-1755261000-1755268200@auburn.events
SUMMARY:Softball: Girls Varsity  vs. Ralston High School (Home)
DESCRIPTION:Type: Jamboree  Opponent: Ralston High School
URL:https://auburn.events/event/softball-girls-varsity-vs-ralston-high-school-home-3/
LOCATION:Auburn City Recreation Complex  Softball Fields
END:VEVENT
END:VCALENDAR