BEGIN:VCALENDAR
VERSION:2.0
PRODID:-//Auburn, Nebraska Community Calendar - ECPv6.6.4.2//NONSGML v1.0//EN
CALSCALE:GREGORIAN
METHOD:PUBLISH
X-WR-CALNAME:Auburn, Nebraska Community Calendar
X-ORIGINAL-URL:https://auburn.events
X-WR-CALDESC:Events for Auburn, Nebraska Community Calendar
REFRESH-INTERVAL;VALUE=DURATION:PT1H
X-Robots-Tag:noindex
X-PUBLISHED-TTL:PT1H
BEGIN:VTIMEZONE
TZID:America/Chicago
BEGIN:DAYLIGHT
TZOFFSETFROM:-0600
TZOFFSETTO:-0500
TZNAME:CDT
DTSTART:20250309T080000
END:DAYLIGHT
BEGIN:STANDARD
TZOFFSETFROM:-0500
TZOFFSETTO:-0600
TZNAME:CST
DTSTART:20251102T070000
END:STANDARD
END:VTIMEZONE
BEGIN:VEVENT
DTSTART;TZID=America/Chicago:20250624T120000
DTEND;TZID=America/Chicago:20250624T130000
DTSTAMP:20260424T105356
CREATED:20250620T192409Z
LAST-MODIFIED:20250623T192359Z
UID:104122-1750766400-1750770000@auburn.events
SUMMARY:Fw: Grow Auburn - Master Planning Kickoff
DESCRIPTION:Crystal Dunekacke\nCity Administrator/Economic Developer\nCity of Auburn\n1101 J Street\nAuburn\, Nebraska 68305\nOffice: (402) 274-3420 ext. 306\nCell: (402) 239-2270\ncrystald@auburn.ne.gov\nwww.auburn.ne.gov\n________________________________\nFrom: Isaac Kreikemeier\nSent: Friday\, June 20\, 2025 11:30 AM\nTo: Isaac Kreikemeier ; Crystal Dunekacke ; Tanner Kalinowski ; Dayne Kreikemeier ; Carson Brodersen\nSubject: Grow Auburn – Master Planning Kickoff\nWhen: Tue 6/24/2025 12:00 PM – 1:00 PM\nWhere: Rural Impact Hub at 919 Central Ave\nCrystal\,\nPlease forward on to the members of Grow Auburn\nEXTERNAL EMAIL
URL:https://auburn.events/event/fw-grow-auburn-master-planning-kickoff/
LOCATION:Rural Impact Hub at 919 Central Ave
ORGANIZER;CN="ikreikemeier@jeo.com":MAILTO:ikreikemeier@jeo.com
END:VEVENT
BEGIN:VEVENT
DTSTART;TZID=America/Chicago:20250623T103000
DTEND;TZID=America/Chicago:20250623T113000
DTSTAMP:20260424T105356
CREATED:20250619T180906Z
LAST-MODIFIED:20250622T192419Z
UID:104068-1750674600-1750678200@auburn.events
SUMMARY:NE Chambers Association - Education Committee Meeting
DESCRIPTION:Hopefully this time works for all of you to discuss speakers and content for the Fall Conference.  Here is a link to the agenda Derek started.\nhttps://docs.google.com/document/d/1oCzzpnkx5TL9E9P1rPw723uXN0mDgm3RU1eVqH7Ml50/edit?usp=drive_link\nTara Lea is inviting you to a scheduled Zoom meeting.\nJoin Zoom Meeting\nhttps://us06web.zoom.us/j/82541221611?pwd=aK0twZYT1sxICLa9bRFeJhMk6M2uXJ.1\nMeeting ID: 825 4122 1611\nPasscode: 860700\n—\nOne tap mobile\n+16694449171\,\,82541221611# US\n+16699006833\,\,82541221611# US (San Jose)
URL:https://auburn.events/event/ne-chambers-association-education-committee-meeting/
LOCATION:https://us06web.zoom.us/j/82541221611?pwd=aK0twZYT1sxICLa9bRFeJhMk6M2uXJ.1
ORGANIZER;CN="tlea@nechamber.com":MAILTO:tlea@nechamber.com
END:VEVENT
BEGIN:VEVENT
DTSTART;TZID=America/Chicago:20250619T190000
DTEND;TZID=America/Chicago:20250619T200000
DTSTAMP:20260424T105356
CREATED:20250521T020839Z
LAST-MODIFIED:20250619T192344Z
UID:102215-1750359600-1750363200@auburn.events
SUMMARY:Optimists Meeting
DESCRIPTION:
URL:https://auburn.events/event/optimists-meeting-359/
LOCATION:Arbor Manor Motel\, 1617 Central Ave\, Auburn\, NE\, United States
END:VEVENT
BEGIN:VEVENT
DTSTART;TZID=America/Chicago:20250619T080000
DTEND;TZID=America/Chicago:20250619T090000
DTSTAMP:20260424T105356
CREATED:20250520T021138Z
LAST-MODIFIED:20250616T032413Z
UID:102170-1750320000-1750323600@auburn.events
SUMMARY:Members' Mix & Mugs - Auburn Chamber Networking and Workshop Event
DESCRIPTION:
URL:https://auburn.events/event/members-mix-mugs-auburn-chamber-networking-and-workshop-event-25/
END:VEVENT
BEGIN:VEVENT
DTSTART;TZID=America/Chicago:20250618T113000
DTEND;TZID=America/Chicago:20250618T123000
DTSTAMP:20260424T105356
CREATED:20250519T020842Z
LAST-MODIFIED:20250616T032413Z
UID:102126-1750246200-1750249800@auburn.events
SUMMARY:BPW Meeting
DESCRIPTION:
URL:https://auburn.events/event/bpw-meeting-150/
LOCATION:Auburn City Hall
END:VEVENT
BEGIN:VEVENT
DTSTART;TZID=America/Chicago:20250616T150000
DTEND;TZID=America/Chicago:20250616T160000
DTSTAMP:20260424T105356
CREATED:20250517T020857Z
LAST-MODIFIED:20250616T032413Z
UID:102032-1750086000-1750089600@auburn.events
SUMMARY:NE Chambers Association Bi-Weekly Meeting
DESCRIPTION:Tara Lea is inviting you to a scheduled Zoom meeting.\nJoin Zoom Meeting\nhttps://us06web.zoom.us/j/88132210784?pwd=34gyh2cpKljZJe602ekkjTih7E0zS7.1\nMeeting ID: 881 3221 0784\nPasscode: 742255\n—\nOne tap mobile\n+16699006833\,\,88132210784# US (San Jose) 17193594580\,\,88132210784# US\n—\nDial by your location\n• +1 669 900 6833 US (San Jose)\n• +1 719 359 4580 US\n• +1 253 205 0468 US\n• +1 253 215 8782 US (Tacoma)\n• +1 346 248 7799 US (Houston)\n• +1 669 444 9171 US\n• +1 689 278 1000 US\n• +1 929 205 6099 US (New York)\n• +1 301 715 8592 US (Washington DC)\n• +1 305 224 1968 US\n• +1 309 205 3325 US\n• +1 312 626 6799 US (Chicago)\n• +1 360 209 5623 US\n• +1 386 347 5053 US\n• +1 507 473 4847 US\n• +1 564 217 2000 US\n• +1 646 931 3860 US\nMeeting ID: 881 3221 0784\nFind your local number: https://us06web.zoom.us/u/kcxdL802RK
URL:https://auburn.events/event/ne-chambers-association-bi-weekly-meeting-11/
LOCATION:https://us06web.zoom.us/j/88132210784?pwd=34gyh2cpKljZJe602ekkjTih7E0zS7.1
ORGANIZER;CN="tlea@nechamber.com":MAILTO:tlea@nechamber.com
END:VEVENT
BEGIN:VEVENT
DTSTART;TZID=America/Chicago:20250609T190000
DTEND;TZID=America/Chicago:20250609T200000
DTSTAMP:20260424T105356
CREATED:20250511T015337Z
LAST-MODIFIED:20250609T030836Z
UID:101748-1749495600-1749499200@auburn.events
SUMMARY:City Council Meeting
DESCRIPTION:
URL:https://auburn.events/event/city-council-meeting-100/
LOCATION:Auburn City Hall 1101 J Street
END:VEVENT
BEGIN:VEVENT
DTSTART;TZID=America/Chicago:20250609T173000
DTEND;TZID=America/Chicago:20250609T183000
DTSTAMP:20260424T105356
CREATED:20250510T015336Z
LAST-MODIFIED:20250609T030836Z
UID:101701-1749490200-1749493800@auburn.events
SUMMARY:School Board Meeting
DESCRIPTION:
URL:https://auburn.events/event/school-board-meeting-100/
END:VEVENT
BEGIN:VEVENT
DTSTART;TZID=America/Chicago:20250606T120000
DTEND;TZID=America/Chicago:20250606T130000
DTSTAMP:20260424T105356
CREATED:20250507T015352Z
LAST-MODIFIED:20250606T025641Z
UID:101560-1749211200-1749214800@auburn.events
SUMMARY:Feeding 44 Distibution
DESCRIPTION:Mobile Food Pantry for Nemaha County.  Distribution is at Noon.
URL:https://auburn.events/event/feeding-44-distibution-102/
LOCATION:Al Wheeler Activity Center – Peru
END:VEVENT
BEGIN:VEVENT
DTSTART;TZID=America/Chicago:20250602T150000
DTEND;TZID=America/Chicago:20250602T160000
DTSTAMP:20260424T105356
CREATED:20250503T014019Z
LAST-MODIFIED:20250609T030836Z
UID:101371-1748876400-1748880000@auburn.events
SUMMARY:NE Chambers Association Bi-Weekly Meeting
DESCRIPTION:Tara Lea is inviting you to a scheduled Zoom meeting.\nJoin Zoom Meeting\nhttps://us06web.zoom.us/j/88132210784?pwd=34gyh2cpKljZJe602ekkjTih7E0zS7.1\nMeeting ID: 881 3221 0784\nPasscode: 742255\n—\nOne tap mobile\n+16699006833\,\,88132210784# US (San Jose) 17193594580\,\,88132210784# US\n—\nDial by your location\n• +1 669 900 6833 US (San Jose)\n• +1 719 359 4580 US\n• +1 253 205 0468 US\n• +1 253 215 8782 US (Tacoma)\n• +1 346 248 7799 US (Houston)\n• +1 669 444 9171 US\n• +1 689 278 1000 US\n• +1 929 205 6099 US (New York)\n• +1 301 715 8592 US (Washington DC)\n• +1 305 224 1968 US\n• +1 309 205 3325 US\n• +1 312 626 6799 US (Chicago)\n• +1 360 209 5623 US\n• +1 386 347 5053 US\n• +1 507 473 4847 US\n• +1 564 217 2000 US\n• +1 646 931 3860 US\nMeeting ID: 881 3221 0784\nFind your local number: https://us06web.zoom.us/u/kcxdL802RK
URL:https://auburn.events/event/ne-chambers-association-bi-weekly-meeting-10/
LOCATION:https://us06web.zoom.us/j/88132210784?pwd=34gyh2cpKljZJe602ekkjTih7E0zS7.1
ORGANIZER;CN="tlea@nechamber.com":MAILTO:tlea@nechamber.com
END:VEVENT
BEGIN:VEVENT
DTSTART;TZID=America/Chicago:20250523T073000
DTEND;TZID=America/Chicago:20250523T080000
DTSTAMP:20260424T105356
CREATED:20250513T015340Z
LAST-MODIFIED:20250523T020913Z
UID:101843-1747985400-1747987200@auburn.events
SUMMARY:Call with Senator Hallstrom May 23rd at 7:30 AM
DESCRIPTION:Join us for the next update.\n________________________________________________________________________________\nMicrosoft Teams Need help?\nJoin the meeting now\nMeeting ID: 231 553 203 290 8\nPasscode: eS7Yf2mb\n________________________________\nFor organizers: Meeting options\n________________________________________________________________________________
URL:https://auburn.events/event/call-with-senator-hallstrom-may-23rd-at-730-am/
LOCATION:Microsoft Teams Meeting
ORGANIZER;CN="director@nebraskacityareaedc.org":MAILTO:director@nebraskacityareaedc.org
END:VEVENT
BEGIN:VEVENT
DTSTART;TZID=America/Chicago:20250521T113000
DTEND;TZID=America/Chicago:20250521T123000
DTSTAMP:20260424T105356
CREATED:20250421T005350Z
LAST-MODIFIED:20250521T020837Z
UID:100815-1747827000-1747830600@auburn.events
SUMMARY:BPW Meeting
DESCRIPTION:
URL:https://auburn.events/event/bpw-meeting-149/
LOCATION:Auburn City Hall
END:VEVENT
BEGIN:VEVENT
DTSTART;TZID=America/Chicago:20250519T150000
DTEND;TZID=America/Chicago:20250519T160000
DTSTAMP:20260424T105356
CREATED:20250419T005402Z
LAST-MODIFIED:20250519T020841Z
UID:100719-1747666800-1747670400@auburn.events
SUMMARY:NE Chambers Association Bi-Weekly Meeting
DESCRIPTION:Tara Lea is inviting you to a scheduled Zoom meeting.\nJoin Zoom Meeting\nhttps://us06web.zoom.us/j/88132210784?pwd=34gyh2cpKljZJe602ekkjTih7E0zS7.1\nMeeting ID: 881 3221 0784\nPasscode: 742255\n—\nOne tap mobile\n+16699006833\,\,88132210784# US (San Jose) 17193594580\,\,88132210784# US\n—\nDial by your location\n• +1 669 900 6833 US (San Jose)\n• +1 719 359 4580 US\n• +1 253 205 0468 US\n• +1 253 215 8782 US (Tacoma)\n• +1 346 248 7799 US (Houston)\n• +1 669 444 9171 US\n• +1 689 278 1000 US\n• +1 929 205 6099 US (New York)\n• +1 301 715 8592 US (Washington DC)\n• +1 305 224 1968 US\n• +1 309 205 3325 US\n• +1 312 626 6799 US (Chicago)\n• +1 360 209 5623 US\n• +1 386 347 5053 US\n• +1 507 473 4847 US\n• +1 564 217 2000 US\n• +1 646 931 3860 US\nMeeting ID: 881 3221 0784\nFind your local number: https://us06web.zoom.us/u/kcxdL802RK
URL:https://auburn.events/event/ne-chambers-association-bi-weekly-meeting-9/
LOCATION:https://us06web.zoom.us/j/88132210784?pwd=34gyh2cpKljZJe602ekkjTih7E0zS7.1
ORGANIZER;CN="tlea@nechamber.com":MAILTO:tlea@nechamber.com
END:VEVENT
BEGIN:VEVENT
DTSTART;TZID=America/Chicago:20250515T190000
DTEND;TZID=America/Chicago:20250515T200000
DTSTAMP:20260424T105356
CREATED:20250416T005410Z
LAST-MODIFIED:20250515T020911Z
UID:100581-1747335600-1747339200@auburn.events
SUMMARY:Optimists Meeting
DESCRIPTION:
URL:https://auburn.events/event/optimists-meeting-358/
LOCATION:Arbor Manor Motel\, 1617 Central Ave\, Auburn\, NE\, United States
END:VEVENT
BEGIN:VEVENT
DTSTART;TZID=America/Chicago:20250515T080000
DTEND;TZID=America/Chicago:20250515T090000
DTSTAMP:20260424T105356
CREATED:20250415T005438Z
LAST-MODIFIED:20250515T020911Z
UID:100535-1747296000-1747299600@auburn.events
SUMMARY:Members' Mix & Mugs - Auburn Chamber Networking and Workshop Event
DESCRIPTION:
URL:https://auburn.events/event/members-mix-mugs-auburn-chamber-networking-and-workshop-event-24/
END:VEVENT
BEGIN:VEVENT
DTSTART;TZID=America/Chicago:20250512T190000
DTEND;TZID=America/Chicago:20250512T200000
DTSTAMP:20260424T105356
CREATED:20250413T005417Z
LAST-MODIFIED:20250512T015416Z
UID:100446-1747076400-1747080000@auburn.events
SUMMARY:City Council Meeting
DESCRIPTION:
URL:https://auburn.events/event/city-council-meeting-99/
LOCATION:Auburn City Hall 1101 J Street
END:VEVENT
BEGIN:VEVENT
DTSTART;TZID=America/Chicago:20250512T173000
DTEND;TZID=America/Chicago:20250512T183000
DTSTAMP:20260424T105356
CREATED:20250412T005357Z
LAST-MODIFIED:20250512T015416Z
UID:100401-1747071000-1747074600@auburn.events
SUMMARY:School Board Meeting
DESCRIPTION:
URL:https://auburn.events/event/school-board-meeting-99/
END:VEVENT
BEGIN:VEVENT
DTSTART;TZID=America/Chicago:20250509T073000
DTEND;TZID=America/Chicago:20250509T080000
DTSTAMP:20260424T105356
CREATED:20250502T013834Z
LAST-MODIFIED:20250509T015342Z
UID:101324-1746775800-1746777600@auburn.events
SUMMARY:NCTC Legislative call with Sen Hallstrom
DESCRIPTION:The action is heating up\, as the Forecasting board shared very bad news for future revenue projections.\nJoin us for the latest updates.\n________________________________________________________________________________\nMicrosoft Teams Need help?\nJoin the meeting now\nMeeting ID: 211 836 938 676 7\nPasscode: PE6QE32J\n________________________________\nFor organizers: Meeting options\n________________________________________________________________________________
URL:https://auburn.events/event/nctc-legislative-call-with-sen-hallstrom/
LOCATION:Microsoft Teams Meeting
ORGANIZER;CN="director@nebraskacityareaedc.org":MAILTO:director@nebraskacityareaedc.org
END:VEVENT
BEGIN:VEVENT
DTSTART;TZID=America/Chicago:20250506T113000
DTEND;TZID=America/Chicago:20250506T123000
DTSTAMP:20260424T105356
CREATED:20250501T013835Z
LAST-MODIFIED:20250506T015343Z
UID:101277-1746531000-1746534600@auburn.events
SUMMARY:Strategic Planning Review Meeting
DESCRIPTION:Join with Google Meet: https://meet.google.com/cnd-qhay-drm\nLearn more about Meet at: https://support.google.com/a/users/answer/9282720
URL:https://auburn.events/event/strategic-planning-review-meeting/
ORGANIZER;CN="4ntarq9q07viuikids22issvro@group.calendar.google.com":MAILTO:4ntarq9q07viuikids22issvro@group.calendar.google.com
END:VEVENT
BEGIN:VEVENT
DTSTART;TZID=America/Chicago:20250505T150000
DTEND;TZID=America/Chicago:20250505T160000
DTSTAMP:20260424T105356
CREATED:20250405T003905Z
LAST-MODIFIED:20250505T015548Z
UID:100076-1746457200-1746460800@auburn.events
SUMMARY:NE Chambers Association Bi-Weekly Meeting
DESCRIPTION:Tara Lea is inviting you to a scheduled Zoom meeting.\nJoin Zoom Meeting\nhttps://us06web.zoom.us/j/88132210784?pwd=34gyh2cpKljZJe602ekkjTih7E0zS7.1\nMeeting ID: 881 3221 0784\nPasscode: 742255\n—\nOne tap mobile\n+16699006833\,\,88132210784# US (San Jose) 17193594580\,\,88132210784# US\n—\nDial by your location\n• +1 669 900 6833 US (San Jose)\n• +1 719 359 4580 US\n• +1 253 205 0468 US\n• +1 253 215 8782 US (Tacoma)\n• +1 346 248 7799 US (Houston)\n• +1 669 444 9171 US\n• +1 689 278 1000 US\n• +1 929 205 6099 US (New York)\n• +1 301 715 8592 US (Washington DC)\n• +1 305 224 1968 US\n• +1 309 205 3325 US\n• +1 312 626 6799 US (Chicago)\n• +1 360 209 5623 US\n• +1 386 347 5053 US\n• +1 507 473 4847 US\n• +1 564 217 2000 US\n• +1 646 931 3860 US\nMeeting ID: 881 3221 0784\nFind your local number: https://us06web.zoom.us/u/kcxdL802RK
URL:https://auburn.events/event/ne-chambers-association-bi-weekly-meeting-8/
LOCATION:https://us06web.zoom.us/j/88132210784?pwd=34gyh2cpKljZJe602ekkjTih7E0zS7.1
ORGANIZER;CN="tlea@nechamber.com":MAILTO:tlea@nechamber.com
END:VEVENT
BEGIN:VEVENT
DTSTART;TZID=America/Chicago:20250502T120000
DTEND;TZID=America/Chicago:20250502T130000
DTSTAMP:20260424T105356
CREATED:20250402T003854Z
LAST-MODIFIED:20250502T013834Z
UID:99934-1746187200-1746190800@auburn.events
SUMMARY:Feeding 44 Distibution
DESCRIPTION:Mobile Food Pantry for Nemaha County.  Distribution is at Noon.
URL:https://auburn.events/event/feeding-44-distibution-101/
LOCATION:Al Wheeler Activity Center – Peru
END:VEVENT
BEGIN:VEVENT
DTSTART;VALUE=DATE:20250502
DTEND;VALUE=DATE:20250503
DTSTAMP:20260424T105356
CREATED:20250402T003854Z
LAST-MODIFIED:20250502T013834Z
UID:99935-1746144000-1746230399@auburn.events
SUMMARY:Mid America Chamber Executives (MACE) Conference
DESCRIPTION:Derek Rusher is the Chair of MACE this year and we would LOVE to pack the house with Nebraska people!!\nHere is the link for the agenda and registration details: https://business.midamericachamberexecutives.com/events/details/2025-mace-annual-conference-51\n________________________________________________________________________________\nMicrosoft Teams Need help?\nJoin the meeting now\nMeeting ID: 215 023 775 578\nPasscode: 8uA9rb6s\n________________________________\nFor organizers: Meeting options\n________________________________________________________________________________
URL:https://auburn.events/event/mid-america-chamber-executives-mace-conference-3/
LOCATION:Hilton Garden Inn Sioux Falls Downtown (201 E 8th Street\, Sioux Falls\, SD  57103)
ORGANIZER;CN="tlea@nechamber.com":MAILTO:tlea@nechamber.com
END:VEVENT
BEGIN:VEVENT
DTSTART;VALUE=DATE:20250501
DTEND;VALUE=DATE:20250502
DTSTAMP:20260424T105356
CREATED:20250401T003947Z
LAST-MODIFIED:20250501T013835Z
UID:99884-1746057600-1746143999@auburn.events
SUMMARY:Mid America Chamber Executives (MACE) Conference
DESCRIPTION:Derek Rusher is the Chair of MACE this year and we would LOVE to pack the house with Nebraska people!!\nHere is the link for the agenda and registration details: https://business.midamericachamberexecutives.com/events/details/2025-mace-annual-conference-51\n________________________________________________________________________________\nMicrosoft Teams Need help?\nJoin the meeting now\nMeeting ID: 215 023 775 578\nPasscode: 8uA9rb6s\n________________________________\nFor organizers: Meeting options\n________________________________________________________________________________
URL:https://auburn.events/event/mid-america-chamber-executives-mace-conference-2/
LOCATION:Hilton Garden Inn Sioux Falls Downtown (201 E 8th Street\, Sioux Falls\, SD  57103)
ORGANIZER;CN="tlea@nechamber.com":MAILTO:tlea@nechamber.com
END:VEVENT
BEGIN:VEVENT
DTSTART;TZID=America/Chicago:20250430T110000
DTEND;TZID=America/Chicago:20250430T123000
DTSTAMP:20260424T105356
CREATED:20250410T004126Z
LAST-MODIFIED:20250430T013835Z
UID:100307-1746010800-1746016200@auburn.events
SUMMARY:6 Regions\, One Nebraska Southeast Region Update Call (Zoom)
DESCRIPTION:*Zoom will be recorded and made available to those who are unable to attend.\nAgenda:\n11:00-11:10 – Welcome\n11:10 – 11:40 – Infrastructure Project Update\, Southeast Nebraska Development District\n11:40-12:10 – Southeast R.E.A.C.H/Mindset Shift Project Update\, Southeast Navigator\n12:10-12:30 – Questions & Answers/Closing\nTopic: 6 Regions\, One Nebraska Southeast Update Call\nTime: Apr 30\, 2025 11:00 AM Central Time (US and Canada)\nJoin Zoom Meeting\nhttps://zoom.us/j/95145679555?pwd=ZMhj7ihTe3v0ERPZsTla1gNbKaKBcf.1\nMeeting ID: 951 4567 9555\nPasscode: 660517
URL:https://auburn.events/event/6-regions-one-nebraska-southeast-region-update-call-zoom/
LOCATION:https://zoom.us/j/95145679555?pwd=ZMhj7ihTe3v0ERPZsTla1gNbKaKBcf.1
ORGANIZER;CN="zfrancescato@nechamber.com":MAILTO:zfrancescato@nechamber.com
END:VEVENT
BEGIN:VEVENT
DTSTART;VALUE=DATE:20250430
DTEND;VALUE=DATE:20250501
DTSTAMP:20260424T105356
CREATED:20250331T003937Z
LAST-MODIFIED:20250430T013835Z
UID:99838-1745971200-1746057599@auburn.events
SUMMARY:Mid America Chamber Executives (MACE) Conference
DESCRIPTION:Derek Rusher is the Chair of MACE this year and we would LOVE to pack the house with Nebraska people!!\nHere is the link for the agenda and registration details: https://business.midamericachamberexecutives.com/events/details/2025-mace-annual-conference-51\n________________________________________________________________________________\nMicrosoft Teams Need help?\nJoin the meeting now\nMeeting ID: 215 023 775 578\nPasscode: 8uA9rb6s\n________________________________\nFor organizers: Meeting options\n________________________________________________________________________________
URL:https://auburn.events/event/mid-america-chamber-executives-mace-conference/
LOCATION:Hilton Garden Inn Sioux Falls Downtown (201 E 8th Street\, Sioux Falls\, SD  57103)
ORGANIZER;CN="tlea@nechamber.com":MAILTO:tlea@nechamber.com
END:VEVENT
BEGIN:VEVENT
DTSTART;TZID=America/Chicago:20250425T163000
DTEND;TZID=America/Chicago:20250425T173000
DTSTAMP:20260424T105356
CREATED:20250327T003937Z
LAST-MODIFIED:20250425T012336Z
UID:99651-1745598600-1745602200@auburn.events
SUMMARY:Hair cut-Kelsey
DESCRIPTION:
URL:https://auburn.events/event/hair-cut-kelsey/
END:VEVENT
BEGIN:VEVENT
DTSTART;TZID=America/Chicago:20250425T073000
DTEND;TZID=America/Chicago:20250425T080000
DTSTAMP:20260424T105356
CREATED:20250412T005346Z
LAST-MODIFIED:20250425T012336Z
UID:100400-1745566200-1745568000@auburn.events
SUMMARY:bi weekly call with Sen Hallstrom
DESCRIPTION:Stay informed and have your voice heard.  Join us Friday April 25th at 7:30 AM\n________________________________________________________________________________\nMicrosoft Teams Need help?\nJoin the meeting now\nMeeting ID: 239 401 209 486\nPasscode: B6a954aS\n________________________________\nFor organizers: Meeting options\n________________________________________________________________________________
URL:https://auburn.events/event/bi-weekly-call-with-sen-hallstrom-2/
LOCATION:Microsoft Teams Meeting Friday April 25th 7:30 AM
ORGANIZER;CN="director@nebraskacityareaedc.org":MAILTO:director@nebraskacityareaedc.org
END:VEVENT
BEGIN:VEVENT
DTSTART;TZID=America/Chicago:20250422T150000
DTEND;TZID=America/Chicago:20250422T160000
DTSTAMP:20260424T105356
CREATED:20250411T004208Z
LAST-MODIFIED:20250422T005336Z
UID:100353-1745334000-1745337600@auburn.events
SUMMARY:Auburn Chamber Review
DESCRIPTION:________________________________________________________________________________\nMicrosoft Teams Need help?\nJoin the meeting now\nMeeting ID: 241 186 254 710\nPasscode: Te9Tb6un\n________________________________\nDial in by phone\n+1 872-267-6689\,\,598070792# United States\, Chicago\n(877) 276-5253\,\,598070792# United States (Toll-free)\nFind a local number\nPhone conference ID: 598 070 792#\nJoin on a video conferencing device\nTenant key: 531274403@t.plcm.vc\nVideo ID: 115 385 051 8\nMore info\nFor organizers: Meeting options | Reset dial-in PIN\nPlease be advised that NPPD strictly prohibits the automatic or AI recording and/or transcription of this meeting by external participants. Any attempt to use automated tools to capture this session without explicit permission by NPPD will be considered a violation of NPPD policies and privacy regulations. If you cannot comply with this directive\, disconnect from the meeting immediately. Participants found to be violating this policy will be disconnected from the meeting by NPPD and NPPD will pursue all legal and equitable remedies available to it as recourse to such actions.\n________________________________________________________________________________
URL:https://auburn.events/event/auburn-chamber-review/
LOCATION:Microsoft Teams Meeting
ORGANIZER;CN="rjnelse@nppd.com":MAILTO:rjnelse@nppd.com
END:VEVENT
BEGIN:VEVENT
DTSTART;TZID=America/Chicago:20250421T150000
DTEND;TZID=America/Chicago:20250421T160000
DTSTAMP:20260424T105356
CREATED:20250322T172844Z
LAST-MODIFIED:20250421T005336Z
UID:99456-1745247600-1745251200@auburn.events
SUMMARY:NE Chambers Association Bi-Weekly Meeting
DESCRIPTION:Tara Lea is inviting you to a scheduled Zoom meeting.\nJoin Zoom Meeting\nhttps://us06web.zoom.us/j/88132210784?pwd=34gyh2cpKljZJe602ekkjTih7E0zS7.1\nMeeting ID: 881 3221 0784\nPasscode: 742255\n—\nOne tap mobile\n+16699006833\,\,88132210784# US (San Jose) 17193594580\,\,88132210784# US\n—\nDial by your location\n• +1 669 900 6833 US (San Jose)\n• +1 719 359 4580 US\n• +1 253 205 0468 US\n• +1 253 215 8782 US (Tacoma)\n• +1 346 248 7799 US (Houston)\n• +1 669 444 9171 US\n• +1 689 278 1000 US\n• +1 929 205 6099 US (New York)\n• +1 301 715 8592 US (Washington DC)\n• +1 305 224 1968 US\n• +1 309 205 3325 US\n• +1 312 626 6799 US (Chicago)\n• +1 360 209 5623 US\n• +1 386 347 5053 US\n• +1 507 473 4847 US\n• +1 564 217 2000 US\n• +1 646 931 3860 US\nMeeting ID: 881 3221 0784\nFind your local number: https://us06web.zoom.us/u/kcxdL802RK
URL:https://auburn.events/event/ne-chambers-association-bi-weekly-meeting-7/
LOCATION:https://us06web.zoom.us/j/88132210784?pwd=34gyh2cpKljZJe602ekkjTih7E0zS7.1
ORGANIZER;CN="tlea@nechamber.com":MAILTO:tlea@nechamber.com
END:VEVENT
BEGIN:VEVENT
DTSTART;TZID=America/Chicago:20250417T190000
DTEND;TZID=America/Chicago:20250417T200000
DTSTAMP:20260424T105356
CREATED:20250319T171412Z
LAST-MODIFIED:20250418T005628Z
UID:99322-1744916400-1744920000@auburn.events
SUMMARY:Optimists Meeting
DESCRIPTION:
URL:https://auburn.events/event/optimists-meeting-357/
LOCATION:Arbor Manor Motel\, 1617 Central Ave\, Auburn\, NE\, United States
END:VEVENT
END:VCALENDAR